BEGIN:VCALENDAR
VERSION:2.0
PRODID:-//hacksw/handcal//NONSGML v1.0//EN
BEGIN:VEVENT
UID:fa9284710d56c13a36d016f5c42040cf
DTSTAMP:20260424T151210Z

DTSTART:20171209T123000
DTEND:20171209T150000
SUMMARY:Подорож Японією у Шепетівці
DESCRIPTION:У межах року Японії в Україні запрошуємо на мандрівку популярними та незвіданими куточками країни, де сходить сонце, разом з випускником токійського універститету Павлом Котенко.\nКоли? 9 грудня, субота, 12.30\nДе? Міська бібліотека №1, вул.М.Островського, б.42\nПід час подорожі ми:\n\nпобуваємо в японському студмістечку та дізнаємося, як молоді можна здобути освіту в одному з вишів Японії;\nвідвідаємо японські Альпи та зійдемо на священний Фуджі-сан;\nпомолимося в старовинних храмах поміж тисячолітніх дерев;\nпотанцюємо на літньому фестивалі «Небута-мацурі» в місті Аоморі;\nвисадимо рис, а також іншу городину, в долинах префектур Яманаші та Міязакі;\nпродегустуємо славнозвісну отруйну рибу-фугу;\nпосмакуємо японським чаєм.\n\nА також дізнаємося про інші факти країни з третьою економікою світу, як трудоголізм, старіння нації та інші.\nВхід вільний #РікЯпоніївУкраїні

X-ALT-DESC;FMTTYPE=text/html:<!DOCTYPE HTML PUBLIC "-//W3C//DTD HTML 3.2//EN">\n<HTML>\n<HEAD>\n<META NAME="Generator" CONTENT="MS Exchange Server version 08.00.0681.000">\n<TITLE></TITLE>\n</HEAD>\n<BODY>\n<!-- Converted from text/rtf format -->\n\n<p>У межах року Японії в Україні запрошуємо на мандрівку популярними та незвіданими куточками країни, де сходить сонце, разом з випускником токійського універститету Павлом Котенко.</p><br /><p>Коли? 9 грудня, субота, 12.30</p><br /><p>Де? Міська бібліотека №1, вул.М.Островського, б.42</p><br /><p>Під час подорожі ми:</p><br /><ul><br /><li>побуваємо в японському студмістечку та дізнаємося, як молоді можна здобути освіту в одному з вишів Японії;</li><br /><li>відвідаємо японські Альпи та зійдемо на священний Фуджі-сан;</li><br /><li>помолимося в старовинних храмах поміж тисячолітніх дерев;</li><br /><li>потанцюємо на літньому фестивалі «Небута-мацурі» в місті Аоморі;</li><br /><li>висадимо рис, а також іншу городину, в долинах префектур Яманаші та Міязакі;</li><br /><li>продегустуємо славнозвісну отруйну рибу-фугу;</li><br /><li>посмакуємо японським чаєм.</li><br /></ul><br /><p>А також дізнаємося про інші факти країни з третьою економікою світу, як трудоголізм, старіння нації та інші.</p><br /><p>Вхід вільний #РікЯпоніївУкраїні</p>\n\n</BODY>\n</HTML>

LOCATION:
END:VEVENT

END:VCALENDAR
