BEGIN:VCALENDAR
VERSION:2.0
PRODID:-//hacksw/handcal//NONSGML v1.0//EN
BEGIN:VEVENT
UID:b0943760fdf7a1ff52350954f59e9b44
DTSTAMP:20260424T214920Z

DTSTART:20171124T000000
DTEND:20171220T235959
SUMMARY:Чари українського фарфору та фаянсу
DESCRIPTION:\nЗ 24 листопада по 20 грудня 2017 року в краєзнавчому відділі музею М.Островського працюватиме виставка «Чари українського фарфору та фаянсу», де ви зможете отримати естетичну насолоду від виробів з порцеляни, напівпорцеляни, фаянсу та майоліки Полонського заводу художньої кераміки і Баранівського фарфорового заводу. А на молодших відвідувачів чекає цікавий майстер-клас, де вони зможуть розписати власну статуетку.\n\n 

X-ALT-DESC;FMTTYPE=text/html:<!DOCTYPE HTML PUBLIC "-//W3C//DTD HTML 3.2//EN">\n<HTML>\n<HEAD>\n<META NAME="Generator" CONTENT="MS Exchange Server version 08.00.0681.000">\n<TITLE></TITLE>\n</HEAD>\n<BODY>\n<!-- Converted from text/rtf format -->\n\n<div id="js_yc" class="_5pbx userContent _3576" data-ft="{&quot;tn&quot;:&quot;K&quot;}"><br /><p>З 24 листопада по 20 грудня 2017 року в краєзнавчому відділі музею М.Островського працюватиме виставка «Чари українського фарфору та фаянсу», де ви зможете отримати естетичну насолоду від виробів з порцеляни, напівпорцеляни, фаянсу та майоліки Полонського заводу художньої кераміки і Баранівського фарфорового заводу. А на молодших відвідувачів чекає цікавий майстер-клас, де вони зможуть розписати власну статуетку.</p><br /></div><br /><div class="_3x-2"> </div>\n\n</BODY>\n</HTML>

LOCATION:
END:VEVENT

END:VCALENDAR
