BEGIN:VCALENDAR
VERSION:2.0
PRODID:-//hacksw/handcal//NONSGML v1.0//EN
BEGIN:VEVENT
UID:a89ef5011842d0987f64b7fbb55cd78d
DTSTAMP:20260426T015504Z

DTSTART:20160429T200000
DTEND:20160429T220000
SUMMARY:Збори членів спілки "Рибалки Поділля"
DESCRIPTION:

X-ALT-DESC;FMTTYPE=text/html:<!DOCTYPE HTML PUBLIC "-//W3C//DTD HTML 3.2//EN">\n<HTML>\n<HEAD>\n<META NAME="Generator" CONTENT="MS Exchange Server version 08.00.0681.000">\n<TITLE></TITLE>\n</HEAD>\n<BODY>\n<!-- Converted from text/rtf format -->\n\n\n\n</BODY>\n</HTML>

LOCATION:Шепетівка 4-ий ставок
END:VEVENT

END:VCALENDAR
