BEGIN:VCALENDAR
VERSION:2.0
PRODID:-//hacksw/handcal//NONSGML v1.0//EN
BEGIN:VEVENT
UID:bfba23d245893bae6843357e6c4d7dcd
DTSTAMP:20260423T081847Z

DTSTART:20140329T180000
DTEND:20140329T193000
SUMMARY:Віват збирає друзів
DESCRIPTION:Звітний концерт спортивно бального колективу "Віват"... Керівник Олена Талімочук\nЗапрошуємо усіх бажаючих і небажаючих=D\n-Маса задоволення\n-Фотосесія, автографи.

X-ALT-DESC;FMTTYPE=text/html:<!DOCTYPE HTML PUBLIC "-//W3C//DTD HTML 3.2//EN">\n<HTML>\n<HEAD>\n<META NAME="Generator" CONTENT="MS Exchange Server version 08.00.0681.000">\n<TITLE></TITLE>\n</HEAD>\n<BODY>\n<!-- Converted from text/rtf format -->\n\nЗвітний концерт спортивно бального колективу "Віват"... Керівник Олена Талімочук<br />Запрошуємо усіх бажаючих і небажаючих=D<br />-Маса задоволення<br />-Фотосесія, автографи.\n\n</BODY>\n</HTML>

LOCATION:Шепетівка, Україна, Будинок Культури
END:VEVENT

END:VCALENDAR
