BEGIN:VCALENDAR
VERSION:2.0
PRODID:-//hacksw/handcal//NONSGML v1.0//EN
BEGIN:VEVENT
UID:552b89199d7651e231102d238f5074fb
DTSTAMP:20260424T052500Z

DTSTART:20140225T170000
DTEND:20140225T190000
SUMMARY:Театралізоване свято з нагоди             200- річчя з дня народження    Т.Г. Шевченка
DESCRIPTION:

X-ALT-DESC;FMTTYPE=text/html:<!DOCTYPE HTML PUBLIC "-//W3C//DTD HTML 3.2//EN">\n<HTML>\n<HEAD>\n<META NAME="Generator" CONTENT="MS Exchange Server version 08.00.0681.000">\n<TITLE></TITLE>\n</HEAD>\n<BODY>\n<!-- Converted from text/rtf format -->\n\n\n\n</BODY>\n</HTML>

LOCATION:Шепетівка, Україна, міський будинок культури
END:VEVENT

END:VCALENDAR
