BEGIN:VCALENDAR
VERSION:2.0
PRODID:-//hacksw/handcal//NONSGML v1.0//EN
BEGIN:VEVENT
UID:19961676f03dbdaab9ada668d4d269bb
DTSTAMP:20260425T000906Z

DTSTART:20130214T190000
DTEND:20130215T010000
SUMMARY:Молодіжний захід в клубі «Третій сектор» МГО «КЕДР» до Дня  Святого Валентина
DESCRIPTION:

X-ALT-DESC;FMTTYPE=text/html:<!DOCTYPE HTML PUBLIC "-//W3C//DTD HTML 3.2//EN">\n<HTML>\n<HEAD>\n<META NAME="Generator" CONTENT="MS Exchange Server version 08.00.0681.000">\n<TITLE></TITLE>\n</HEAD>\n<BODY>\n<!-- Converted from text/rtf format -->\n\n\n\n</BODY>\n</HTML>

LOCATION:музей ім. М.Островського
END:VEVENT

END:VCALENDAR
