BEGIN:VCALENDAR
VERSION:2.0
PRODID:-//hacksw/handcal//NONSGML v1.0//EN
BEGIN:VEVENT
UID:c3387b2ccb903d1bd2e51544d947cf8b
DTSTAMP:20260425T112227Z

DTSTART:20240609T190000
DTEND:20240609T190000
SUMMARY:Андрій Кравченко. Великий тур «Мадонна»
DESCRIPTION:Артист презентує надчуттєву програму “Мадонна”, пісні з якої торкнуться душі кожного слухача. Звучатимуть найвідоміші хіти Андрія Кравченка: "Доле моя", "Моя єдина", "Тільки ти", "Лебідка", “Все буде добре”. Також ви почуєте нові пісні, що пробудять в серці кращі почуття.\n"Я щасливий, що є можливість зустрічатися з моїми слухачами. Емоції від концертів незабутні. Коли твої пісні підспівує зал - розумієш, що все це недаремно. Війна оголила наші основні запити: любити і жити, не відкладаючи це у довгу шухляду. Про це я пишу та співаю. Це близьке кожному" - зазначає Андрій Кравченко.\nЖиве виконання. Особлива атмосфера. Це варто почути і побачити!

X-ALT-DESC;FMTTYPE=text/html:<!DOCTYPE HTML PUBLIC "-//W3C//DTD HTML 3.2//EN">\n<HTML>\n<HEAD>\n<META NAME="Generator" CONTENT="MS Exchange Server version 08.00.0681.000">\n<TITLE></TITLE>\n</HEAD>\n<BODY>\n<!-- Converted from text/rtf format -->\n\n<p>Артист презентує надчуттєву програму “Мадонна”, пісні з якої торкнуться душі кожного слухача. Звучатимуть найвідоміші хіти Андрія Кравченка: "Доле моя", "Моя єдина", "Тільки ти", "Лебідка", “Все буде добре”. Також ви почуєте нові пісні, що пробудять в серці кращі почуття.</p><br /><p>"Я щасливий, що є можливість зустрічатися з моїми слухачами. Емоції від концертів незабутні. Коли твої пісні підспівує зал - розумієш, що все це недаремно. Війна оголила наші основні запити: любити і жити, не відкладаючи це у довгу шухляду. Про це я пишу та співаю. Це близьке кожному" - зазначає Андрій Кравченко.</p><br /><p>Живе виконання. Особлива атмосфера. Це варто почути і побачити!</p>\n\n</BODY>\n</HTML>

LOCATION:
END:VEVENT

END:VCALENDAR
