BEGIN:VCALENDAR
VERSION:2.0
PRODID:-//hacksw/handcal//NONSGML v1.0//EN
BEGIN:VEVENT
UID:9f403f286b2cfe447709c421f6fa0dd3
DTSTAMP:20260425T171512Z

DTSTART:20230324T170000
DTEND:20230324T170000
SUMMARY:Благодійний концерт "Народжені бути вільними"
DESCRIPTION:Благодійний концерт "Народжені бути вільними"

X-ALT-DESC;FMTTYPE=text/html:<!DOCTYPE HTML PUBLIC "-//W3C//DTD HTML 3.2//EN">\n<HTML>\n<HEAD>\n<META NAME="Generator" CONTENT="MS Exchange Server version 08.00.0681.000">\n<TITLE></TITLE>\n</HEAD>\n<BODY>\n<!-- Converted from text/rtf format -->\n\n<p>Благодійний концерт "Народжені бути вільними"</p>\n\n</BODY>\n</HTML>

LOCATION:Будинок культури, 54, Героїв Небесної Сотні вулиця, Шепетівка, Шепетівська міська громада, Шепетівський район, Хмельницька область, 30400, Україна
END:VEVENT

END:VCALENDAR
