BEGIN:VCALENDAR
VERSION:2.0
PRODID:-//hacksw/handcal//NONSGML v1.0//EN
BEGIN:VEVENT
UID:99a2c64f2480d3760ced50391f85eff0
DTSTAMP:20260425T125626Z

DTSTART:20230325T140000
DTEND:20230325T140000
SUMMARY:Театральні зустрічі
DESCRIPTION:Театральні зустрічі

X-ALT-DESC;FMTTYPE=text/html:<!DOCTYPE HTML PUBLIC "-//W3C//DTD HTML 3.2//EN">\n<HTML>\n<HEAD>\n<META NAME="Generator" CONTENT="MS Exchange Server version 08.00.0681.000">\n<TITLE></TITLE>\n</HEAD>\n<BODY>\n<!-- Converted from text/rtf format -->\n\n<p><span style="font-size: 12.16px;">Театральні зустрічі</span></p>\n\n</BODY>\n</HTML>

LOCATION:Будинок культури, 54, Героїв Небесної Сотні вулиця, Шепетівка, Шепетівська міська громада, Шепетівський район, Хмельницька область, 30400, Україна
END:VEVENT

END:VCALENDAR
