BEGIN:VCALENDAR
VERSION:2.0
PRODID:-//hacksw/handcal//NONSGML v1.0//EN
BEGIN:VEVENT
UID:ca9de6d8a0bebb2d0684a4d48f9d58da
DTSTAMP:20260425T125621Z

DTSTART:20230324T180000
DTEND:20230324T180000
SUMMARY:MINECRAFT vs Brawl Stars 
DESCRIPTION:Уже в цей ЧЕТВЕР! 23 березня! ✨MINECRAFT vs Brawl Stars Інтерактивний шоу-спектакль для дітей за мотивами 2-х найпопулярніших ігор! ? Прем'єра в ШЕПЕТІВЦІІ! ✔ МІСЬКИЙ БУДИНОК КУЛЬТУРИ,18:00 Квитки в БУДИНКУ КУЛЬТУРИ, KARABAS.COM ТЕЛ.:068-024-19-12 ?Вартість квитків: 180-360 гр

X-ALT-DESC;FMTTYPE=text/html:<!DOCTYPE HTML PUBLIC "-//W3C//DTD HTML 3.2//EN">\n<HTML>\n<HEAD>\n<META NAME="Generator" CONTENT="MS Exchange Server version 08.00.0681.000">\n<TITLE></TITLE>\n</HEAD>\n<BODY>\n<!-- Converted from text/rtf format -->\n\n<p>Уже в цей ЧЕТВЕР! 23 березня! ✨MINECRAFT vs Brawl Stars Інтерактивний шоу-спектакль для дітей за мотивами 2-х найпопулярніших ігор! ? Прем'єра в ШЕПЕТІВЦІІ! ✔ МІСЬКИЙ БУДИНОК КУЛЬТУРИ,18:00 Квитки в БУДИНКУ КУЛЬТУРИ, KARABAS.COM ТЕЛ.:068-024-19-12 ?Вартість квитків: 180-360 гр</p>\n\n</BODY>\n</HTML>

LOCATION:
END:VEVENT

END:VCALENDAR
