BEGIN:VCALENDAR
VERSION:2.0
PRODID:-//hacksw/handcal//NONSGML v1.0//EN
BEGIN:VEVENT
UID:15711dd94affb1d99472403ed293d9fe
DTSTAMP:20260425T171423Z

DTSTART:20220111T160000
DTEND:20220111T160000
SUMMARY:Один вдома
DESCRIPTION:100&nbsp;-&nbsp;150&nbsp;грн

X-ALT-DESC;FMTTYPE=text/html:<!DOCTYPE HTML PUBLIC "-//W3C//DTD HTML 3.2//EN">\n<HTML>\n<HEAD>\n<META NAME="Generator" CONTENT="MS Exchange Server version 08.00.0681.000">\n<TITLE></TITLE>\n</HEAD>\n<BODY>\n<!-- Converted from text/rtf format -->\n\n<p><b><strong>100</strong><strong>&nbsp;-&nbsp;</strong><strong>150</strong>&nbsp;<strong>грн</strong></b></p>\n\n</BODY>\n</HTML>

LOCATION:
END:VEVENT

END:VCALENDAR
