BEGIN:VCALENDAR
VERSION:2.0
PRODID:-//hacksw/handcal//NONSGML v1.0//EN
BEGIN:VEVENT
UID:2e2900380e5fca9a8ad8b7c1d2d291ce
DTSTAMP:20260425T125539Z

DTSTART:20220111T180000
DTEND:20220111T180000
SUMMARY:Квартал червоних ліхтарів
DESCRIPTION:170&nbsp;-&nbsp;270&nbsp;грн

X-ALT-DESC;FMTTYPE=text/html:<!DOCTYPE HTML PUBLIC "-//W3C//DTD HTML 3.2//EN">\n<HTML>\n<HEAD>\n<META NAME="Generator" CONTENT="MS Exchange Server version 08.00.0681.000">\n<TITLE></TITLE>\n</HEAD>\n<BODY>\n<!-- Converted from text/rtf format -->\n\n<p><b><strong>170</strong><strong>&nbsp;-&nbsp;</strong><strong>270</strong>&nbsp;<strong>грн</strong></b></p>\n\n</BODY>\n</HTML>

LOCATION:
END:VEVENT

END:VCALENDAR
