BEGIN:VCALENDAR
VERSION:2.0
PRODID:-//hacksw/handcal//NONSGML v1.0//EN
BEGIN:VEVENT
UID:4c1d03cd4de54fe7bee102e9a3bd3e74
DTSTAMP:20260425T025652Z

DTSTART:20210613T000000
DTEND:20210613T000000
SUMMARY:День міста Шепетівка 2021
DESCRIPTION:Програма святкування\n12:00 - "AвтoParty"- виставка спеціалізованої техніки для фотосесій (площа біля Музею пропаганди);\n13:00 - змагання з ДАРТСу та з флорболу (площа перед міською радою);\n13:30 - показові виступи спортсменів міста з боксу, важкої атлетики, боротьби вільної та баскетболу (площа перед міською радою);\n15:00 - 19:00 - фотоінсталяція «Шепетівка старовинна» (площа перед входом до Музею пропаганди);\nз 14:00 - презентаційно-виставкова локація «Села громади» (площа біля Музею пропаганди).\nПлоща ім. Тараса Шевченка\nз 14:00 \nісторично-краєзнавча мандрівка «Шепетівка - рідне місто моє!»;\nвиставка творчих робіт випускників Шепетівської дитячої художньої школи «Яскраві барви моїх мрій»;\nлокація з фотозонами «Я люблю своє місто!»;\nрозважально-ігрова програма для дітей та молоді «Веселі забави»;\n3 14:30-20:00 - художньо-мистецьке свято «Наше місто - рідний серцю дім!» за участі творчих колективів громади;\n17:00 - 17:45 - урочиста частина свята, вітання міського голови Віталія Бузиля та гостей свята;\n20:00 - початок виступу хедлайнерки свята - поп-співачки Андріани;\n21:30 - пісочна анімація «Історія міста» від "Пісочної Феї" Оксани Мергут;\n21:45 - театр вогню і світла "zLights" з рок програмою.\nПротягом дня для Вас працюватимуть атракціони, ярмаркове містечко та торговельні локації.

X-ALT-DESC;FMTTYPE=text/html:<!DOCTYPE HTML PUBLIC "-//W3C//DTD HTML 3.2//EN">\n<HTML>\n<HEAD>\n<META NAME="Generator" CONTENT="MS Exchange Server version 08.00.0681.000">\n<TITLE></TITLE>\n</HEAD>\n<BODY>\n<!-- Converted from text/rtf format -->\n\nПрограма святкування<br />12:00 - "AвтoParty"- виставка спеціалізованої техніки для фотосесій (площа біля Музею пропаганди);<br />13:00 - змагання з ДАРТСу та з флорболу (площа перед міською радою);<br />13:30 - показові виступи спортсменів міста з боксу, важкої атлетики, боротьби вільної та баскетболу (площа перед міською радою);<br />15:00 - 19:00 - фотоінсталяція «Шепетівка старовинна» (площа перед входом до Музею пропаганди);<br />з 14:00 - презентаційно-виставкова локація «Села громади» (площа біля Музею пропаганди).<br />Площа ім. Тараса Шевченка<br />з 14:00 <br />історично-краєзнавча мандрівка «Шепетівка - рідне місто моє!»;<br />виставка творчих робіт випускників Шепетівської дитячої художньої школи «Яскраві барви моїх мрій»;<br />локація з фотозонами «Я люблю своє місто!»;<br />розважально-ігрова програма для дітей та молоді «Веселі забави»;<br />3 14:30-20:00 - художньо-мистецьке свято «Наше місто - рідний серцю дім!» за участі творчих колективів громади;<br />17:00 - 17:45 - урочиста частина свята, вітання міського голови Віталія Бузиля та гостей свята;<br />20:00 - початок виступу хедлайнерки свята - поп-співачки Андріани;<br />21:30 - пісочна анімація «Історія міста» від "Пісочної Феї" Оксани Мергут;<br />21:45 - театр вогню і світла "zLights" з рок програмою.<br />Протягом дня для Вас працюватимуть атракціони, ярмаркове містечко та торговельні локації.\n\n</BODY>\n</HTML>

LOCATION:Шепетівка, Шепетівська міська громада, Шепетівський район, Хмельницька область, Україна
END:VEVENT

END:VCALENDAR
