BEGIN:VCALENDAR
VERSION:2.0
PRODID:-//hacksw/handcal//NONSGML v1.0//EN
BEGIN:VEVENT
UID:4c4c94fb94751262399a72e35039fc7e
DTSTAMP:20260425T111948Z

DTSTART:20210609T170000
DTEND:20210609T170000
SUMMARY:Три коти
DESCRIPTION:Три коти

X-ALT-DESC;FMTTYPE=text/html:<!DOCTYPE HTML PUBLIC "-//W3C//DTD HTML 3.2//EN">\n<HTML>\n<HEAD>\n<META NAME="Generator" CONTENT="MS Exchange Server version 08.00.0681.000">\n<TITLE></TITLE>\n</HEAD>\n<BODY>\n<!-- Converted from text/rtf format -->\n\nТри коти\n\n</BODY>\n</HTML>

LOCATION:Будинок культури, 54, Героїв Небесної Сотні вулиця, Шепетівка, Шепетівська міська громада, Шепетівський район, Хмельницька область, 30400, Україна
END:VEVENT

END:VCALENDAR
