BEGIN:VCALENDAR
VERSION:2.0
PRODID:-//hacksw/handcal//NONSGML v1.0//EN
BEGIN:VEVENT
UID:43843217c37f99caccd9495b522aa6ca
DTSTAMP:20260424T201605Z

DTSTART:20210531T130000
DTEND:20210531T130000
SUMMARY:Шлях свободи
DESCRIPTION:Друзі, ми запрошуємо вас до нашого музею на зустріч з художником, ілюстратором, плакатистом, театральним художником, digital-художником – Нікітою Тітовим!\nРоботи Нікіти Тітова поширюють в соцмережах та розбирають на аватарки. Кожен його плакат вражає своїм глибоким сенсом, влучно та лаконічно візуалізує те, що відбувається в країні і болить. \nВони привертали увагу до подій Революції Гідності, війни на Сході, становища українських політв'язнів в російських тюрмах, болючого сьогодення. Роботи різні за тематикою й оформленням, але кожна людина може знайти щось для себе і про себе. \nНікіта Тітов є надзвичайно неординарна та цікава особистіть.\n✅Він є художником вистави про війну на Донбасі “Чуваки не святкують, або Ukrainian” від театру «Ампулка», прем’єра якої відбулася у грудні 2020 року.\n✅Влітку 2020 року у садочку Харківського літературного музею відбувся проєкт «Казавмазав» — своєрідна мистецька «дуель» художника Нікіти Тітова та поета Івана Сеніна. Спільний творчий проект у якому перегукуються між собою вірші та малюнки митців.\n✅Плакат Нікіти Тітова «Передова», на якому зображені військовий і медик став ескізом поштової марки, яка 1 червня 2020 року введена в обіг.\n✅12 жовтня 2020 року Національний банк України ввів в обіг пам’ятну монету України «Передова» номіналом 5 гривень. При її створенні були використані образи з однойменного плакату Тітова.\n✅Нікіта Тітов є автором обкладинок понад 10 книг, зокрема Володимира В’ятровича «За лаштунками «Волині-43» та «(Не)історичні миті».\n✅Художник є одним з авторів настільної гри Харківського літературного музею «Супер! Герой!».\n✅За власним висловом, пише у жанрі «наївне мистецтво». За допомогою двох кольорів та однієї лінії передає як біль, так і сміх.\nПриходьте, буде цікаво!\n?А ми нагадуємо, що у нашому музеї, за сприяння Національний музей Революції Гідності • Maidan Museum , Український інститут національної пам'яті  та Центр Досліджень Визвольного Руху, діє персональна виставка робіт Нікіти Тітова, яку можна відвідати щодня з 9.00 до 17.00.\nНа фото роботи Нікіти Тітова.

X-ALT-DESC;FMTTYPE=text/html:<!DOCTYPE HTML PUBLIC "-//W3C//DTD HTML 3.2//EN">\n<HTML>\n<HEAD>\n<META NAME="Generator" CONTENT="MS Exchange Server version 08.00.0681.000">\n<TITLE></TITLE>\n</HEAD>\n<BODY>\n<!-- Converted from text/rtf format -->\n\nДрузі, ми запрошуємо вас до нашого музею на зустріч з художником, ілюстратором, плакатистом, театральним художником, digital-художником – Нікітою Тітовим!<br />Роботи Нікіти Тітова поширюють в соцмережах та розбирають на аватарки. Кожен його плакат вражає своїм глибоким сенсом, влучно та лаконічно візуалізує те, що відбувається в країні і болить. <br />Вони привертали увагу до подій Революції Гідності, війни на Сході, становища українських політв'язнів в російських тюрмах, болючого сьогодення. Роботи різні за тематикою й оформленням, але кожна людина може знайти щось для себе і про себе. <br />Нікіта Тітов є надзвичайно неординарна та цікава особистіть.<br />✅Він є художником вистави про війну на Донбасі “Чуваки не святкують, або Ukrainian” від театру «Ампулка», прем’єра якої відбулася у грудні 2020 року.<br />✅Влітку 2020 року у садочку Харківського літературного музею відбувся проєкт «Казавмазав» — своєрідна мистецька «дуель» художника Нікіти Тітова та поета Івана Сеніна. Спільний творчий проект у якому перегукуються між собою вірші та малюнки митців.<br />✅Плакат Нікіти Тітова «Передова», на якому зображені військовий і медик став ескізом поштової марки, яка 1 червня 2020 року введена в обіг.<br />✅12 жовтня 2020 року Національний банк України ввів в обіг пам’ятну монету України «Передова» номіналом 5 гривень. При її створенні були використані образи з однойменного плакату Тітова.<br />✅Нікіта Тітов є автором обкладинок понад 10 книг, зокрема Володимира В’ятровича «За лаштунками «Волині-43» та «(Не)історичні миті».<br />✅Художник є одним з авторів настільної гри Харківського літературного музею «Супер! Герой!».<br />✅За власним висловом, пише у жанрі «наївне мистецтво». За допомогою двох кольорів та однієї лінії передає як біль, так і сміх.<br />Приходьте, буде цікаво!<br />?А ми нагадуємо, що у нашому музеї, за сприяння Національний музей Революції Гідності • Maidan Museum , Український інститут національної пам'яті  та Центр Досліджень Визвольного Руху, діє персональна виставка робіт Нікіти Тітова, яку можна відвідати щодня з 9.00 до 17.00.<br />На фото роботи Нікіти Тітова.\n\n</BODY>\n</HTML>

LOCATION:музей Миколи Островського, 2, 200-річчя Шевченка вулиця, Шепетівка, Шепетівська міська громада, Шепетівський район, Хмельницька область, 30400-30409, Україна
END:VEVENT

END:VCALENDAR
