BEGIN:VCALENDAR
VERSION:2.0
PRODID:-//hacksw/handcal//NONSGML v1.0//EN
BEGIN:VEVENT
UID:b60ec809a7644f487a4ce3cca61a8dfd
DTSTAMP:20260425T125501Z

DTSTART:20210603T180000
DTEND:20210603T180000
SUMMARY:Божевільна ніч
DESCRIPTION:Неймовірно крута КОМЕДІЯ!!\nКвитки в касі МБК

X-ALT-DESC;FMTTYPE=text/html:<!DOCTYPE HTML PUBLIC "-//W3C//DTD HTML 3.2//EN">\n<HTML>\n<HEAD>\n<META NAME="Generator" CONTENT="MS Exchange Server version 08.00.0681.000">\n<TITLE></TITLE>\n</HEAD>\n<BODY>\n<!-- Converted from text/rtf format -->\n\nНеймовірно крута КОМЕДІЯ!!<br />Квитки в касі МБК\n\n</BODY>\n</HTML>

LOCATION:Будинок культури, 54, Героїв Небесної Сотні вулиця, Шепетівка, Шепетівська міська громада, Шепетівський район, Хмельницька область, 30400, Україна
END:VEVENT

END:VCALENDAR
