BEGIN:VCALENDAR
VERSION:2.0
PRODID:-//hacksw/handcal//NONSGML v1.0//EN
BEGIN:VEVENT
UID:4735bb92910103daaaa68779471376a1
DTSTAMP:20260424T214919Z

DTSTART:20210309T000000
DTEND:20210313T235959
SUMMARY:Виставка соціального плакату до дня народження Тараса Шевченка “Шевченко forever”
DESCRIPTION:Виставка соціального плакату до дня народження Тараса Шевченка “Шевченко forever”. \nЗасобами соціального плакату поезія Шевченка переосмислюється та набуває нового звучання. Соціальний плакат порушує соціальні проблеми, де віршовані рядки Кобзаря стають слоганами до плакатів з питань української соборності, незалежності та євро інтеграції. Пророче слово , розміщене у сучасному контексті, подане сучасною візуальною мовою, звучить по-новому, не заангажовано. \nДосягненням цього проекту стало розуміння молоддю універсальності та позачасовості постаті Шевченка для України, відхід від стереотипного сприйняття. \nЦікавими є роботи, які трансформують Шевченкове слово мовою коміксів, смайликів та інших неординарних образів, що свідчить про здатність молодих дизайнерів до нешаблонного мислення і прочитання поезії Кобзаря.\nРоботи надані Черкаським обласним художнім музеєм.

X-ALT-DESC;FMTTYPE=text/html:<!DOCTYPE HTML PUBLIC "-//W3C//DTD HTML 3.2//EN">\n<HTML>\n<HEAD>\n<META NAME="Generator" CONTENT="MS Exchange Server version 08.00.0681.000">\n<TITLE></TITLE>\n</HEAD>\n<BODY>\n<!-- Converted from text/rtf format -->\n\nВиставка соціального плакату до дня народження Тараса Шевченка “Шевченко forever”. <br />Засобами соціального плакату поезія Шевченка переосмислюється та набуває нового звучання. Соціальний плакат порушує соціальні проблеми, де віршовані рядки Кобзаря стають слоганами до плакатів з питань української соборності, незалежності та євро інтеграції. Пророче слово , розміщене у сучасному контексті, подане сучасною візуальною мовою, звучить по-новому, не заангажовано. <br />Досягненням цього проекту стало розуміння молоддю універсальності та позачасовості постаті Шевченка для України, відхід від стереотипного сприйняття. <br />Цікавими є роботи, які трансформують Шевченкове слово мовою коміксів, смайликів та інших неординарних образів, що свідчить про здатність молодих дизайнерів до нешаблонного мислення і прочитання поезії Кобзаря.<br />Роботи надані Черкаським обласним художнім музеєм.\n\n</BODY>\n</HTML>

LOCATION:вулиця Островського, 2, Шепетівка, Хмельницька область, Україна, 30400
END:VEVENT

END:VCALENDAR
