BEGIN:VCALENDAR
VERSION:2.0
PRODID:-//hacksw/handcal//NONSGML v1.0//EN
BEGIN:VEVENT
UID:b71450efb444235f97e3bfd67a1e68dd
DTSTAMP:20260426T015234Z

DTSTART:20210413T180000
DTEND:20210413T180000
SUMMARY:Вистава The Best
DESCRIPTION:Друзі, ми з радістю хочемо повідомити, що вистава відбудеться 12 квітня! О 18.00 міський будинок культури. Кількість мість буде обмежена задля дотримання норм карантину. Квитки можна придбати в касі а також доставка квитків по місту. Лиш наберіть 0981596523\n\nНАТАЛІЯ СУМСЬКА,АНАТОЛІЙ ХОСТІКОЄВ, ЛЮДМИЛА СМОРОДИНА, ЛЮБОВ КУБЮК

X-ALT-DESC;FMTTYPE=text/html:<!DOCTYPE HTML PUBLIC "-//W3C//DTD HTML 3.2//EN">\n<HTML>\n<HEAD>\n<META NAME="Generator" CONTENT="MS Exchange Server version 08.00.0681.000">\n<TITLE></TITLE>\n</HEAD>\n<BODY>\n<!-- Converted from text/rtf format -->\n\nДрузі, ми з радістю хочемо повідомити, що вистава відбудеться 12 квітня! О 18.00 міський будинок культури. Кількість мість буде обмежена задля дотримання норм карантину. Квитки можна придбати в касі а також доставка квитків по місту. Лиш наберіть 0981596523<br /><br />НАТАЛІЯ СУМСЬКА,АНАТОЛІЙ ХОСТІКОЄВ, ЛЮДМИЛА СМОРОДИНА, ЛЮБОВ КУБЮК\n\n</BODY>\n</HTML>

LOCATION:вулиця Героїв Небесної Сотні, 54, Шепетівка, Хмельницька область, Україна, 30400
END:VEVENT

END:VCALENDAR
