BEGIN:VCALENDAR
VERSION:2.0
PRODID:-//hacksw/handcal//NONSGML v1.0//EN
BEGIN:VEVENT
UID:81215a410bd2db4852e1bb92e4168b10
DTSTAMP:20260424T201530Z

DTSTART:20210212T120000
DTEND:20210214T170000
SUMMARY:"Майдан: простір творчості" у Шепетівці
DESCRIPTION:Мистецький проєкт “Майдан: простір творчості” впродовж 2018–2020 років експонували в Києві, Одесі, Мелітополі, Хмельницькому, Львові, Конотопі й Опішні. У 2021-му роботи студентів-дизайнерів Національної академії образотворчого мистецтва і архітектури приймає Музей пропаганди у Шепетівці Хмельницької області.\nЕкспонати виставки створені в революційний рік під керівництвом професора Віталія Шості. Викладач сфокусував дипломні та курсові роботи на Майдані, попри те, що вже пів року кожен підопічний мав затверджену персональну тему. “Майдан: простір творчості” – це 74 мистецькі об’єкти про Революцію Гідності, а також календарі та плакати, присвячені російській інформаційній і військовій агресії.\nНа виставці буде представлено:\n“Автограф Майдану” – серія акцидентних абеток, де авторка Ольга Кисельова використовує прототипи шрифтів, застосовуваних майданівцями в різний спосіб і на різному матеріалі.\n“Апостоли гідності. Відважний щит України” – серія з 12 плакатів від Марини Шевчук. Вона поєднує, вишиковує стрій щитів – уособлення захисників Майдану поряд зі священними гаслами-посланнями, які були сенсом життя героїчних оборонців.\n“Це – медіавійна” – серія плакатів Марини Лукашенко. Авторка викриває цинічну політику Росії у використанні інформаційної зброї, яка деформує свідомість населення передусім країни-окупанта.\nКалендарі та плакати на тему Майдану, присвячені російській інформаційній і військовій агресії.\nЦей край – особливо пам’ятає Євромайдан і його учасників. 10 Героїв Небесної Сотні народилися на Хмельниччині. Один з них – Микола Дзявульський – був уродженцем Шепетівки.\nОРГАНІЗАТОРИ ТА ПАРТНЕРИ: Національний меморіальний комплекс Героїв Небесної Сотні – Музей Революції Гідності, майстерня графічного дизайну НАОМА професора Віталія Шості, Український інститут національної пам’яті, Музей пропаганди у Шепетівці, Хмельницька обласна рада.\nВІДКРИТТЯ ВИСТАВКИ: 12 лютого 2021 року о 12:00.\nЕКСПОЗИЦІЯ ДІЄ: з 12 лютого до 14 березня, щодня без вихідних, з 9:00 до 17:00.\nВАРТІСТЬ ВХІДНОГО КВИТКА: для дорослих – 30 грн, для дітей та студентів – 15 грн. Є пільги для дітей дошкільного віку, школярів-напівсиріт, школярів-сиріт, вихованців шкіл-інтернатів, інвалідів, дітей з багатодітних сімей, учасників бойових дій, учасників АТО, дітей війни, для осіб, постраждалих внаслідок Чорнобильської катастрофи.\nМІСЦЕ ПРОВЕДЕННЯ: Музей пропаганди, вулиця Островського, 2, Шепетівка, Хмельницька область.\nТел.(03840) 4-14-74\nДОВІДКОВА ІНФОРМАЦІЯ – прес-служба Національного Музею Революції Гідності:\npress@maidanmuseum.org, +380 98 661 18 33.

X-ALT-DESC;FMTTYPE=text/html:<!DOCTYPE HTML PUBLIC "-//W3C//DTD HTML 3.2//EN">\n<HTML>\n<HEAD>\n<META NAME="Generator" CONTENT="MS Exchange Server version 08.00.0681.000">\n<TITLE></TITLE>\n</HEAD>\n<BODY>\n<!-- Converted from text/rtf format -->\n\nМистецький проєкт “Майдан: простір творчості” впродовж 2018–2020 років експонували в Києві, Одесі, Мелітополі, Хмельницькому, Львові, Конотопі й Опішні. У 2021-му роботи студентів-дизайнерів Національної академії образотворчого мистецтва і архітектури приймає Музей пропаганди у Шепетівці Хмельницької області.<br />Експонати виставки створені в революційний рік під керівництвом професора Віталія Шості. Викладач сфокусував дипломні та курсові роботи на Майдані, попри те, що вже пів року кожен підопічний мав затверджену персональну тему. “Майдан: простір творчості” – це 74 мистецькі об’єкти про Революцію Гідності, а також календарі та плакати, присвячені російській інформаційній і військовій агресії.<br />На виставці буде представлено:<br />“Автограф Майдану” – серія акцидентних абеток, де авторка Ольга Кисельова використовує прототипи шрифтів, застосовуваних майданівцями в різний спосіб і на різному матеріалі.<br />“Апостоли гідності. Відважний щит України” – серія з 12 плакатів від Марини Шевчук. Вона поєднує, вишиковує стрій щитів – уособлення захисників Майдану поряд зі священними гаслами-посланнями, які були сенсом життя героїчних оборонців.<br />“Це – медіавійна” – серія плакатів Марини Лукашенко. Авторка викриває цинічну політику Росії у використанні інформаційної зброї, яка деформує свідомість населення передусім країни-окупанта.<br />Календарі та плакати на тему Майдану, присвячені російській інформаційній і військовій агресії.<br />Цей край – особливо пам’ятає Євромайдан і його учасників. 10 Героїв Небесної Сотні народилися на Хмельниччині. Один з них – Микола Дзявульський – був уродженцем Шепетівки.<br />ОРГАНІЗАТОРИ ТА ПАРТНЕРИ: Національний меморіальний комплекс Героїв Небесної Сотні – Музей Революції Гідності, майстерня графічного дизайну НАОМА професора Віталія Шості, Український інститут національної пам’яті, Музей пропаганди у Шепетівці, Хмельницька обласна рада.<br />ВІДКРИТТЯ ВИСТАВКИ: 12 лютого 2021 року о 12:00.<br />ЕКСПОЗИЦІЯ ДІЄ: з 12 лютого до 14 березня, щодня без вихідних, з 9:00 до 17:00.<br />ВАРТІСТЬ ВХІДНОГО КВИТКА: для дорослих – 30 грн, для дітей та студентів – 15 грн. Є пільги для дітей дошкільного віку, школярів-напівсиріт, школярів-сиріт, вихованців шкіл-інтернатів, інвалідів, дітей з багатодітних сімей, учасників бойових дій, учасників АТО, дітей війни, для осіб, постраждалих внаслідок Чорнобильської катастрофи.<br />МІСЦЕ ПРОВЕДЕННЯ: Музей пропаганди, вулиця Островського, 2, Шепетівка, Хмельницька область.<br />Тел.(03840) 4-14-74<br />ДОВІДКОВА ІНФОРМАЦІЯ – прес-служба Національного Музею Революції Гідності:<br />press@maidanmuseum.org, +380 98 661 18 33.\n\n</BODY>\n</HTML>

LOCATION:
END:VEVENT

END:VCALENDAR
